BEGIN:VCALENDAR
VERSION:2.0
PRODID:-//Peter Caelen - ECPv6.8.3//NONSGML v1.0//EN
CALSCALE:GREGORIAN
METHOD:PUBLISH
X-WR-CALNAME:Peter Caelen
X-ORIGINAL-URL:https://www.petercaelen.com/?lang=en
X-WR-CALDESC:Events for Peter Caelen
REFRESH-INTERVAL;VALUE=DURATION:PT1H
X-Robots-Tag:noindex
X-PUBLISHED-TTL:PT1H
BEGIN:VTIMEZONE
TZID:Europe/Paris
BEGIN:DAYLIGHT
TZOFFSETFROM:+0100
TZOFFSETTO:+0200
TZNAME:CEST
DTSTART:20260329T010000
END:DAYLIGHT
BEGIN:STANDARD
TZOFFSETFROM:+0200
TZOFFSETTO:+0100
TZNAME:CET
DTSTART:20261025T010000
END:STANDARD
END:VTIMEZONE
BEGIN:VEVENT
DTSTART;TZID=Europe/Paris:20260426T143000
DTEND;TZID=Europe/Paris:20260426T143000
DTSTAMP:20260423T165742
CREATED:20250907T194006Z
LAST-MODIFIED:20250917T132408Z
UID:2225-1777213800-1777213800@www.petercaelen.com
SUMMARY:Kaat Schraepen\, altviool & David Voncken\, piano
DESCRIPTION:2026-04-26/Kapel Opveld Maastricht/2.30 pm \nKaat Schraepen\, viola \nDavid Voncken\, piano \n‘The heat o’ the Sun’ \n  \nRoger Quilter                                      Fear no more the heat o’ the sun \nYork Bowen                                         Sonata opus 18 no. 1 \nClaude Debussy                                   Le Plus Que Lente \nRebecca Clarke                                    Sonata \nJohannes Brahms                                 Sonata opus 120 no. 1 \nJohannes Brahms                                 Nachtigall opus 97 \n  \nA poet and his muse travel between the beauty and pain of mortality throughout this programme. British composers and altists York Bowen and Rebecca Clarke made their mark on music through their individualistic choices throughout the stylistic chaos of the early 20th century. Finding their muse in the symbol of late Romanticism\, Johannes Brahms\, as well as in dreamy Impressionism. \n  \nViola player Kaat Schraepen is praised for her sincere interpretations as a true storyteller\, her rich palette of timbres and her great expressiveness. Awarded prizes in several national and international competitions\, Kaat Schraepen is known as one of the most outstanding viola players of her generation. Among others\, Kaat won first prize in the European Competition for Young Soloists in Luxembourg\, second prize in the Concorso Internazionale di Esecuzione Musicale Giovani Musicisti Treviso in Italy\, first prize in the International Competition “Salzburg” Grand Prize Virtuoso\, third prize in the MiN International Music Competition for Strings in Norway and a silver medal in the Vienna International Music Competition. As a chamber musician\, she has shared the stage with musicians such as Stephan Picard\, Eszter Haffner\, Claudio Bohorquez\, Ilya Grubert\, Cuarteto Casals\, Daniel Rowland\, Maja Bogdanovic and Nino Gvetadze. \n  \nDavid Voncken played with several orchestras under conductors such as Dirk de Caluwe and Matty Cilissen. He won first prizes at the Prinses Christina Concours in Maastricht and the Belfius Classics in Brussels and was also prize winner of the Walter Gieseking Concours In Saarbrücken. He gave concerts at venues such as La Monnaie in Brussels and Theater aan het Vrijthof in Maastricht. With pianist Peter Caelen\, he played concerts in the Netherlands\, Belgium\, Switzerland and Hungary. In 2022\, they toured Indonesia with concerts and master classes in Jakarta\, Medan and Semarang. \nKaat Schraepen and David Voncken form a permanent duo and performed frequently at home and abroad. \nTickets             € 29\,-/till age 27 € 19\,-
URL:https://www.petercaelen.com/event/kaat-schraepen-altviool-david-voncken-piano/?lang=en
CATEGORIES:Alle evenementen,Excellent Concerten
ATTACH;FMTTYPE=image/png:https://www.petercaelen.com/wp-content/uploads/2025/09/26-04-2026-david-kaat.png
END:VEVENT
END:VCALENDAR