BEGIN:VCALENDAR
VERSION:2.0
PRODID:-//Peter Caelen - ECPv6.8.3//NONSGML v1.0//EN
CALSCALE:GREGORIAN
METHOD:PUBLISH
X-ORIGINAL-URL:https://www.petercaelen.com
X-WR-CALDESC:Events for Peter Caelen
REFRESH-INTERVAL;VALUE=DURATION:PT1H
X-Robots-Tag:noindex
X-PUBLISHED-TTL:PT1H
BEGIN:VTIMEZONE
TZID:Europe/Paris
BEGIN:DAYLIGHT
TZOFFSETFROM:+0100
TZOFFSETTO:+0200
TZNAME:CEST
DTSTART:20200329T010000
END:DAYLIGHT
BEGIN:STANDARD
TZOFFSETFROM:+0200
TZOFFSETTO:+0100
TZNAME:CET
DTSTART:20201025T010000
END:STANDARD
BEGIN:DAYLIGHT
TZOFFSETFROM:+0100
TZOFFSETTO:+0200
TZNAME:CEST
DTSTART:20210328T010000
END:DAYLIGHT
BEGIN:STANDARD
TZOFFSETFROM:+0200
TZOFFSETTO:+0100
TZNAME:CET
DTSTART:20211031T010000
END:STANDARD
BEGIN:DAYLIGHT
TZOFFSETFROM:+0100
TZOFFSETTO:+0200
TZNAME:CEST
DTSTART:20220327T010000
END:DAYLIGHT
BEGIN:STANDARD
TZOFFSETFROM:+0200
TZOFFSETTO:+0100
TZNAME:CET
DTSTART:20221030T010000
END:STANDARD
END:VTIMEZONE
BEGIN:VEVENT
DTSTART;TZID=Europe/Paris:20221112T193000
DTEND;TZID=Europe/Paris:20221112T193000
DTSTAMP:20260423T211114
CREATED:20221013T195049Z
LAST-MODIFIED:20221013T195820Z
UID:1931-1668281400-1668281400@www.petercaelen.com
SUMMARY:Peter Caelen & David Voncken piano
DESCRIPTION:12 November 2022 | 7.30 pm | Radjawali Semarang Cultural Center\, Semarang (Indonesia)\nhttp://www.radjawaliscc.co.id/\nWorks by Brahms\, Couperin\, Debussy\, Chopin\, Schubert/Liszt & Schubert
URL:https://www.petercaelen.com/event/peter-caelen-david-voncken-piano-6/
CATEGORIES:Alle evenementen,Peter Caelen
ATTACH;FMTTYPE=image/png:https://www.petercaelen.com/wp-content/uploads/2022/10/Peter-en-David-12-11-22.png
END:VEVENT
BEGIN:VEVENT
DTSTART;TZID=Europe/Paris:20221109T193000
DTEND;TZID=Europe/Paris:20221109T193000
DTSTAMP:20260423T211114
CREATED:20221013T194918Z
LAST-MODIFIED:20221013T194918Z
UID:1927-1668022200-1668022200@www.petercaelen.com
SUMMARY:Peter Caelen & David Voncken piano
DESCRIPTION:9 November 2022 | 7.30 pm | Wesley Methodist Church Auditorium\, Medan (Indonesia)\nWorks by Brahms\, Couperin\, Debussy\, Chopin\, Schubert/Liszt & Schubert
URL:https://www.petercaelen.com/event/peter-caelen-david-voncken-piano-5/
CATEGORIES:Alle evenementen,Peter Caelen
ATTACH;FMTTYPE=image/png:https://www.petercaelen.com/wp-content/uploads/2022/10/Peter-en-David-09-11-22.png
END:VEVENT
BEGIN:VEVENT
DTSTART;TZID=Europe/Paris:20221108T140000
DTEND;TZID=Europe/Paris:20221108T140000
DTSTAMP:20260423T211114
CREATED:20221013T194742Z
LAST-MODIFIED:20221017T130822Z
UID:1924-1667916000-1667916000@www.petercaelen.com
SUMMARY:Peter Caelen piano Masterclass
DESCRIPTION:8 November 2022 | 2.00 pm | Medan (Indonesia)
URL:https://www.petercaelen.com/event/peter-caelen-piano-masterclass-2/
CATEGORIES:Alle evenementen,Peter Caelen
ATTACH;FMTTYPE=image/png:https://www.petercaelen.com/wp-content/uploads/2022/10/Peter-08-11-22.png
END:VEVENT
BEGIN:VEVENT
DTSTART;TZID=Europe/Paris:20221105T193000
DTEND;TZID=Europe/Paris:20221105T193000
DTSTAMP:20260423T211114
CREATED:20221013T194542Z
LAST-MODIFIED:20221017T130509Z
UID:1921-1667676600-1667676600@www.petercaelen.com
SUMMARY:Peter Caelen & David Voncken piano
DESCRIPTION:5 November 2022 | 7.30 pm | Erasmushuis\, Jakarta (Indonesia)\nhttps://www.netherlandsandyou.nl/your-country-and-the-netherlands/indonesia/erasmus-huis\nWorks by Brahms\, Couperin\, Debussy\, Chopin\, Schubert/Liszt & Schubert
URL:https://www.petercaelen.com/event/peter-caelen-david-voncken-piano-4/
CATEGORIES:Alle evenementen,Peter Caelen
ATTACH;FMTTYPE=image/png:https://www.petercaelen.com/wp-content/uploads/2022/10/Peter-en-David-05-11-22.png
END:VEVENT
BEGIN:VEVENT
DTSTART;TZID=Europe/Paris:20221104T140000
DTEND;TZID=Europe/Paris:20221104T140000
DTSTAMP:20260423T211114
CREATED:20221013T194355Z
LAST-MODIFIED:20221013T194413Z
UID:1916-1667570400-1667570400@www.petercaelen.com
SUMMARY:Peter Caelen piano Masterclass
DESCRIPTION:4 November 2022 | 2.00 pm | Jakarta Conservatory of Music (Indonesia)
URL:https://www.petercaelen.com/event/peter-caelen-piano-masterclass/
CATEGORIES:Alle evenementen,Peter Caelen
ATTACH;FMTTYPE=image/png:https://www.petercaelen.com/wp-content/uploads/2022/10/Peter-04-11-22-.png
END:VEVENT
BEGIN:VEVENT
DTSTART;TZID=Europe/Paris:20221016T143000
DTEND;TZID=Europe/Paris:20221016T143000
DTSTAMP:20260423T211114
CREATED:20220923T195252Z
LAST-MODIFIED:20220923T195252Z
UID:1879-1665930600-1665930600@www.petercaelen.com
SUMMARY:Támas Érdi\, piano
DESCRIPTION:Zondag 16 oktober 2022 / 14.30 uur / Locatie: Ursulinenconvent Eijsden \n  \nFranz Liszt \n\nWaldesrauschen\nConsolation nr. 3\nLes jeux d’eaux a la Villa d’este\nMephistowals nr. 1\nSposalizio\nHongaarse Rhapsodie nr. 6\n\n  \nBéla Bartók \n\nImprovisaties op Hongaarse boerenliederen opus 20\n\n  \nClaude Debussy \n\nSuite Bergamasque\n\n  \nZoltán Kodály \n\nDances of Marosszék\n\n  \nTamás Érdi\, een voormalige leerling van de legendarische Leon Fleischer\, trad wereldwijd op in meer dan 28 landen. Daarbij speelde hij in prestigieuze zalen als Carnegie Hall in New York\, Lincoln Center in Washington en Barbican Hall in Londen. De American Record Guide prees zijn muzikale diepte en vergeleek de expressie van zijn Mozartopnames met die van Rudolf Serkin\, Clara Haskil en Mitsuko Uchida. Hij soleerde bij orkesten als de Toronto Symphony\, de Iceland Symphony\, het Wiener Mozart Orchester en de Hungarian Radio Symphony onder dirigenten als Zoltán Kocsis en Támas Vasary. In 2019 ontving hij de Liszt Prize\, de hoogste Hongaarse muzikale onderscheiding. \n  \nToegang: € 30\,-/tot 27 jaar € 20\,- \n 
URL:https://www.petercaelen.com/event/tamas-erdi-piano/
CATEGORIES:Alle evenementen,Excellent Concerten
ATTACH;FMTTYPE=image/jpeg:https://www.petercaelen.com/wp-content/uploads/2022/09/Tamas.jpg
END:VEVENT
BEGIN:VEVENT
DTSTART;TZID=Europe/Paris:20220818T200000
DTEND;TZID=Europe/Paris:20220818T200000
DTSTAMP:20260423T211114
CREATED:20220721T130744Z
LAST-MODIFIED:20220722T134800Z
UID:1867-1660852800-1660852800@www.petercaelen.com
SUMMARY:Peter Caelen & David Voncken\, piano
DESCRIPTION:18 August 2022 | Cantorama\, Jaun (Switserland) | 8.00 pm \nWorks by Schubert\, Liszt & Voncken\n\n\nhttps://cantorama.ch/
URL:https://www.petercaelen.com/event/peter-caelen-david-voncken-piano-2/
CATEGORIES:Alle evenementen,Peter Caelen
ATTACH;FMTTYPE=image/png:https://www.petercaelen.com/wp-content/uploads/2022/07/Peter-en-David-18-08-22.png
END:VEVENT
BEGIN:VEVENT
DTSTART;TZID=Europe/Paris:20220816T200000
DTEND;TZID=Europe/Paris:20220816T200000
DTSTAMP:20260423T211114
CREATED:20220721T130636Z
LAST-MODIFIED:20220721T130636Z
UID:1865-1660680000-1660680000@www.petercaelen.com
SUMMARY:Peter Caelen & David Voncken\, piano
DESCRIPTION:16 August 2022 | Cantorama\, Jaun (Switserland) | 8.00 pm\nWorks by Brahms\, Chopin\, Liszt\, Couperin & Debussy\n\nhttps://cantorama.ch/
URL:https://www.petercaelen.com/event/peter-caelen-david-voncken-piano/
CATEGORIES:Alle evenementen,Peter Caelen
ATTACH;FMTTYPE=image/png:https://www.petercaelen.com/wp-content/uploads/2022/07/Peter-en-David-16-08-22.png
END:VEVENT
BEGIN:VEVENT
DTSTART;TZID=Europe/Paris:20220731T200000
DTEND;TZID=Europe/Paris:20220731T200000
DTSTAMP:20260423T211114
CREATED:20220721T130451Z
LAST-MODIFIED:20220722T134452Z
UID:1857-1659297600-1659297600@www.petercaelen.com
SUMMARY:Peter Caelen\, piano
DESCRIPTION:31 July 2022 | Festetics Palace\, Kesthely (Hungary) | 8:00 pm\nWorks by Chopin & Liszt\n\nhttps://www.klasszaparton.hu/hu/programok/peter-caelen-2022-07-31-20/
URL:https://www.petercaelen.com/event/peter-caelen-piano-4/
CATEGORIES:Alle evenementen,Peter Caelen
ATTACH;FMTTYPE=image/png:https://www.petercaelen.com/wp-content/uploads/2022/07/Peter-Caelen-31-7-22.png
END:VEVENT
BEGIN:VEVENT
DTSTART;TZID=Europe/Paris:20220522T143000
DTEND;TZID=Europe/Paris:20220522T143000
DTSTAMP:20260423T211114
CREATED:20210920T150320Z
LAST-MODIFIED:20210921T121524Z
UID:1798-1653229800-1653229800@www.petercaelen.com
SUMMARY:Jan Kalinowski\, cello & Marek Szlezer\, piano
DESCRIPTION:Ursulinenconvent Eijsden (NL)\n2.30 am\n\nFrédéric Chopin – Introduction and Polonaise Op. 3\nFrédéric Chopin – Cello Sonata G minor Op. 65\nSergei Rachmaninoff – Vocalise Op. 34 No. 14\nRobert Schumann – Adagio and Allegro Op. 70\nClaude Debussy – Sonata (1915)\nAlexander Tansman – Fantaisie (1936)\n\nwww.excellentconcerten.nl
URL:https://www.petercaelen.com/event/jan-kalinowski-cello-marek-szlezer-piano/
CATEGORIES:Alle evenementen,Excellent Concerten
ATTACH;FMTTYPE=image/png:https://www.petercaelen.com/wp-content/uploads/2021/09/JAN-en-MAREK-22-5-22.png
END:VEVENT
BEGIN:VEVENT
DTSTART;TZID=Europe/Paris:20220424T143000
DTEND;TZID=Europe/Paris:20220424T143000
DTSTAMP:20260423T211114
CREATED:20210920T150139Z
LAST-MODIFIED:20210920T150449Z
UID:1794-1650810600-1650810600@www.petercaelen.com
SUMMARY:Wim Ilsen\, violin & Peter Caelen\, piano
DESCRIPTION:Ursulinenconvent Eijsden (NL)\n2.30 am\n\nProgramme t.b.a.\nwww.excellentconcerten.nl
URL:https://www.petercaelen.com/event/wim-ilsen-violin-peter-caelen-piano/
CATEGORIES:Alle evenementen,Excellent Concerten,Peter Caelen
ATTACH;FMTTYPE=image/png:https://www.petercaelen.com/wp-content/uploads/2021/09/WIM-ILSEN-PETER-CAELEN-24-4-22.png
END:VEVENT
BEGIN:VEVENT
DTSTART;TZID=Europe/Paris:20220423T140000
DTEND;TZID=Europe/Paris:20220423T140000
DTSTAMP:20260423T211114
CREATED:20220316T142006Z
LAST-MODIFIED:20220316T142006Z
UID:1854-1650722400-1650722400@www.petercaelen.com
SUMMARY:Govert Derix author/philosopher & Peter Caelen\, piano
DESCRIPTION:Govert Derix author/philosopher & Peter Caelen\, piano\nApril 23rd \, 2022 | Kloosterbibliotheek\, Wittem | ttba\n\nOp zoek mét Beethoven
URL:https://www.petercaelen.com/event/govert-derix-author-philosopher-peter-caelen-piano/
CATEGORIES:Alle evenementen,Peter Caelen
ATTACH;FMTTYPE=image/png:https://www.petercaelen.com/wp-content/uploads/2022/03/GOVERT-DERIX-PETER-23-04-22.png
END:VEVENT
BEGIN:VEVENT
DTSTART;TZID=Europe/Paris:20220403T143000
DTEND;TZID=Europe/Paris:20220403T143000
DTSTAMP:20260423T211114
CREATED:20210920T091323Z
LAST-MODIFIED:20210921T140051Z
UID:1789-1648996200-1648996200@www.petercaelen.com
SUMMARY:Wouter Valvekens\, piano
DESCRIPTION:Ursulinenconvent Eijsden (NL)\n2.30 pm\n\nKarol Szymanowski – Masques opus 34\nFrédéric Chopin – Mazurka opus 59 nr. 1\nFrédéric Chopin – Barcarolle opus 60\nRobert Schumann – Arabesque opus 18\nRobert Schumann – Fantasie opus 17\nwww.excellentconcerten.nl
URL:https://www.petercaelen.com/event/wouter-valvekens-piano/
CATEGORIES:Alle evenementen,Excellent Concerten
ATTACH;FMTTYPE=image/png:https://www.petercaelen.com/wp-content/uploads/2021/09/WOUTER-VALVEKES-3-4-22.png
END:VEVENT
BEGIN:VEVENT
DTSTART;TZID=Europe/Paris:20220312T080000
DTEND;TZID=Europe/Paris:20220312T170000
DTSTAMP:20260423T211114
CREATED:20210920T091115Z
LAST-MODIFIED:20210920T150502Z
UID:1785-1647072000-1647104400@www.petercaelen.com
SUMMARY:Olsi Leka\, cello & Peter Caelen\, piano
DESCRIPTION:Florianka Concert Hall Krakow (PL)\nTime t.b.a.\n\nHenriëtte Bosmans – Nuit calme\nCésar Franck – Sonata\nDmitri Shostakovich – Sonata opus 40\nPiotr Iljitsj Tschaikowski – Pezzo capriccioso opus 62\nhttps://www.facebook.com/WiosnaWiolonczelowa
URL:https://www.petercaelen.com/event/olsi-leka-cello-peter-caelen-piano-7/
CATEGORIES:Alle evenementen,Excellent Concerten,Peter Caelen
ATTACH;FMTTYPE=image/png:https://www.petercaelen.com/wp-content/uploads/2021/09/PETER-OLSI-12-3-22.png
END:VEVENT
BEGIN:VEVENT
DTSTART;TZID=Europe/Paris:20220306T110000
DTEND;TZID=Europe/Paris:20220306T110000
DTSTAMP:20260423T211114
CREATED:20210920T090838Z
LAST-MODIFIED:20210920T150518Z
UID:1781-1646564400-1646564400@www.petercaelen.com
SUMMARY:Volodja Balzalorsky\, violin & Peter Caelen\, piano
DESCRIPTION:Jean-Marie Leclair – Sonata opus 9 no. 3\nEdvard Grieg – Sonata no. 3 opus 45\nCésar Franck – Sonata\nwww.excellentconcerten.nl
URL:https://www.petercaelen.com/event/volodja-balzalorsky-violin-peter-caelen-piano-5/
CATEGORIES:Alle evenementen,Excellent Concerten,Peter Caelen
ATTACH;FMTTYPE=image/png:https://www.petercaelen.com/wp-content/uploads/2021/09/VOLODJA-PETER-6-3-22.png
END:VEVENT
BEGIN:VEVENT
DTSTART;TZID=Europe/Paris:20220213T143000
DTEND;TZID=Europe/Paris:20220213T143000
DTSTAMP:20260423T211114
CREATED:20210920T090621Z
LAST-MODIFIED:20210921T140157Z
UID:1777-1644762600-1644762600@www.petercaelen.com
SUMMARY:Kaat Schraepen\, viola & David Voncken\, piano
DESCRIPTION:Henri Vieuxtemps – Sonata opus 36\nPaul Hindemith – Sonata opus 11 nr. 4\nGeorge Enescu – Konzertstück\nJohannes Brahms – Sonate in Es opus 120 no. 2\nJohannes Brahms – Scherzo WoO 4\n\nwww.excellentconcerten.nl
URL:https://www.petercaelen.com/event/kaat-schraepen-viola-david-voncken-piano-2/
CATEGORIES:Alle evenementen,Excellent Concerten
ATTACH;FMTTYPE=image/png:https://www.petercaelen.com/wp-content/uploads/2021/09/KAAT-DAVID-12-2-22.png
END:VEVENT
BEGIN:VEVENT
DTSTART;TZID=Europe/Paris:20220116T110000
DTEND;TZID=Europe/Paris:20220116T110000
DTSTAMP:20260423T211114
CREATED:20210920T090450Z
LAST-MODIFIED:20210921T140223Z
UID:1775-1642330800-1642330800@www.petercaelen.com
SUMMARY:Peter Caelen\, piano
DESCRIPTION:Frédéric Chopin – Ballade no. 1 opus 23\nFrédéric Chopin – Etudes (selection)\nFrédéric Chopin – Scherzo no. 2 opus 31\nFranz Liszt – Harmonies du soir\nFranz Liszt – Réminiscences de Norma\nwww.excellentconcerten.nl
URL:https://www.petercaelen.com/event/peter-caelen-piano-3/
CATEGORIES:Alle evenementen,Excellent Concerten,Peter Caelen
ATTACH;FMTTYPE=image/png:https://www.petercaelen.com/wp-content/uploads/2021/09/PETER-CAELEN-16-1-22.png
END:VEVENT
BEGIN:VEVENT
DTSTART;TZID=Europe/Paris:20211128T143000
DTEND;TZID=Europe/Paris:20211128T143000
DTSTAMP:20260423T211115
CREATED:20210920T090209Z
LAST-MODIFIED:20211115T210934Z
UID:1771-1638109800-1638109800@www.petercaelen.com
SUMMARY:Florian Noack\, piano
DESCRIPTION:Franz Schubert – Sonata D. 571\nSergei Lyapunov – Selection from Etudes Transcendantes opus 11\nFrédéric Chopin – 24 Préludes opus 28\nwww.excellentconcerten.nl
URL:https://www.petercaelen.com/event/florian-noack-piano/
CATEGORIES:Alle evenementen,Excellent Concerten
ATTACH;FMTTYPE=image/png:https://www.petercaelen.com/wp-content/uploads/2021/09/FLORIAN-NOACK-28-11-21.png
END:VEVENT
BEGIN:VEVENT
DTSTART;TZID=Europe/Paris:20211031T110000
DTEND;TZID=Europe/Paris:20211031T110000
DTSTAMP:20260423T211115
CREATED:20210920T085858Z
LAST-MODIFIED:20210921T140340Z
UID:1768-1635678000-1635678000@www.petercaelen.com
SUMMARY:Olsi Leka\, cello & Peter Caelen\, piano
DESCRIPTION:Piano’s Maene Rekem (B)\n11.00 am\n\nLudwig van Beethoven – 12 Variations on a theme from Händel’s Oratorium ‘Judas Maccabäus’ WoO 45\nRobert Schumann – Fantasy Pieces opus 73\nOlivier Messiaen – Louange a l’éternité de Jésus\nDmitri Shostakovich – Sonata opus 40\nPiotr Iljitsj Tschaikowski – Pezzo capriccioso opus 62\nwww.excellentconcerten.nl
URL:https://www.petercaelen.com/event/olsi-leka-cello-peter-caelen-piano-6/
CATEGORIES:Alle evenementen,Excellent Concerten,Peter Caelen
ATTACH;FMTTYPE=image/png:https://www.petercaelen.com/wp-content/uploads/2021/09/PETER-OLSI-31-10-21.png
END:VEVENT
BEGIN:VEVENT
DTSTART;TZID=Europe/Paris:20211017T170000
DTEND;TZID=Europe/Paris:20211017T170000
DTSTAMP:20260423T211115
CREATED:20170925T090925Z
LAST-MODIFIED:20210922T124842Z
UID:977-1634490000-1634490000@www.petercaelen.com
SUMMARY:Olsi Leka\, cello & Peter Caelen\, piano
DESCRIPTION:October 17th\, 2021\nMarkthalle Monschau (D)\n5.00 pm\n\nProgramme t.b.a.
URL:https://www.petercaelen.com/event/olsi-leka-cello-peter-caelen-piano-8/
LOCATION:Herberg de Zwarte Ruiter\, Gulpen\, Nederland
CATEGORIES:Alle evenementen,Excellent Concerten,Peter Caelen
ATTACH;FMTTYPE=image/png:https://www.petercaelen.com/wp-content/uploads/2021/09/PETER-OLSI-17-10-21.png
ORGANIZER;CN="Stichting Muziek Klassiek Gulpen":MAILTO:l.hermans-zwitserlood@hetnet.nl
END:VEVENT
BEGIN:VEVENT
DTSTART;TZID=Europe/Paris:20211010T143000
DTEND;TZID=Europe/Paris:20211010T143000
DTSTAMP:20260423T211115
CREATED:20210920T085605Z
LAST-MODIFIED:20210921T135954Z
UID:1755-1633876200-1633876200@www.petercaelen.com
SUMMARY:Fatjona Maliqi\, piano
DESCRIPTION:October 10th\, 2021\nUrsulinenconvent Eijsden (NL)\n2.30 pm\n\n***\n\nLudwig van Beethoven – Diabelli Variations opus 120\nFranz Liszt – Sonata\n\nwww.excellentconcerten.nl
URL:https://www.petercaelen.com/event/fatjona-maliqi-piano-2/
CATEGORIES:Alle evenementen,Excellent Concerten
ATTACH;FMTTYPE=image/png:https://www.petercaelen.com/wp-content/uploads/2021/09/FATJONA-10-10-21.png
END:VEVENT
BEGIN:VEVENT
DTSTART;TZID=Europe/Paris:20210901T110000
DTEND;TZID=Europe/Paris:20210901T110000
DTSTAMP:20260423T211115
CREATED:20190611T103541Z
LAST-MODIFIED:20210921T135810Z
UID:1570-1630494000-1630494000@www.petercaelen.com
SUMMARY:Kaat Schraepen\, altviool	 & Peter Caelen\, piano
DESCRIPTION:Excellent in de Paterskerk III \nJohannes Brahms     Sonate in Es opus 120 no. 2 \nErnest Bloch     Suite 1919 \nZe is jong en heeft een missie: de altviool als solo-instrument op de kaart zetten. De negentienjarige Belgische Kaat Schraepen voelde zich als kind meteen aangetrokken tot de diepe\, warme klanken van de altviool. Inmiddels mag ze zich al rekenen tot één van de meest in het oog springende talenten. Ze won talloze prijzen\, waaronder een eerste prijs van het Concours Européen pour Jeunes Solistes in Luxemburg\, een eerste prijs van de International Competition “Salzburg” Grand Prize Virtuoso 2017 en de derde prijs van de  3. Rising Stars Grand Prix 2018 International Music Competition in Berlijn. Enkele hoogtepunten van de afgelopen seizoenen waren optredens tijdens het Aurora Festival (Zweden)\, het Asiagofestival (Italië) en concerten in het Mozarteum in Salzburg en het Mendelssohnhaus te Leipzig. Als kamermusicus werkte ze met musici als Nino Gvetadze\, Daniël Rowland\, Maja Bogdanovic en Ilya Grubert. (Biografie Peter Caelen) \n  \nToegang in Rekem: €18\,-/tot 27 jaar €10\,-
URL:https://www.petercaelen.com/event/kaat-schraepen-altviool-peter-caelen-piano/
LOCATION:Paterskerk\, Patersstraat 36\, 3621\, Oud-Rekem\, Lanaken\, Limburg\, 3621\, België
CATEGORIES:Alle evenementen,Excellent Concerten,Excellent in de Paterskerk,Peter Caelen
ATTACH;FMTTYPE=image/jpeg:https://www.petercaelen.com/wp-content/uploads/2019/06/KAAT-Peter-Caelen-17-5-20.jpg
ORGANIZER;CN="Peter Caelen Concerts":MAILTO:info@petercaelen.com
END:VEVENT
BEGIN:VEVENT
DTSTART;TZID=Europe/Paris:20210613T140000
DTEND;TZID=Europe/Paris:20210613T140000
DTSTAMP:20260423T211115
CREATED:20200929T134457Z
LAST-MODIFIED:20200929T134457Z
UID:1741-1623592800-1623592800@www.petercaelen.com
SUMMARY:Fatjona Maliqi\, piano
DESCRIPTION:June 13\, 2021 | Ursulinenconvent\, Eijsden | 2.15 pm & 4.00 pm\n\n\nLudwig van Beethoven-Diabelli Variations opus 120\n\nTickets 20\,-/tot 27 jaar 10
URL:https://www.petercaelen.com/event/fatjona-maliqi-piano/
CATEGORIES:Alle evenementen,Excellent Concerten
ATTACH;FMTTYPE=image/png:https://www.petercaelen.com/wp-content/uploads/2020/09/FATJONA-13-6-21.png
END:VEVENT
BEGIN:VEVENT
DTSTART;TZID=Europe/Paris:20210314T080000
DTEND;TZID=Europe/Paris:20210314T170000
DTSTAMP:20260423T211115
CREATED:20200929T134317Z
LAST-MODIFIED:20200929T134805Z
UID:1739-1615708800-1615741200@www.petercaelen.com
SUMMARY:Volodja Balzalorsky\, violin & Peter Caelen\, piano
DESCRIPTION:March 14\, 2021 | Piano’s Maene\, Rekem (B) | 11.00 am\n\n\nProgramme t.b.a.\n\nTickets 22\,-/tot 27 jaar 12\,-
URL:https://www.petercaelen.com/event/volodja-balzalorsky-violin-peter-caelen-piano-4/
CATEGORIES:Alle evenementen,Excellent Concerten,Peter Caelen
ATTACH;FMTTYPE=image/png:https://www.petercaelen.com/wp-content/uploads/2020/09/VOLODJA-PETER-14-3-21.png
END:VEVENT
BEGIN:VEVENT
DTSTART;TZID=Europe/Paris:20210221T080000
DTEND;TZID=Europe/Paris:20210221T170000
DTSTAMP:20260423T211115
CREATED:20200929T134155Z
LAST-MODIFIED:20200929T134729Z
UID:1737-1613894400-1613926800@www.petercaelen.com
SUMMARY:Kaat Schraepen\, viola & David Voncken\, piano
DESCRIPTION:February 21\, 2021 | Ursulinenconvente\, Eijsden | 2.15 pm & 4.00 pm\n\n\nJohannes Brahms-Sonata opus 120 no. 2\nErnest Bloch-Suite 1919\nRobert Schumann-Fantasy Pieces opus 73\n\nTickets 20\,-/tot 27 jaar 10\,- per concert
URL:https://www.petercaelen.com/event/kaat-schraepen-viola-david-voncken-piano/
CATEGORIES:Alle evenementen,Excellent Concerten
ATTACH;FMTTYPE=image/png:https://www.petercaelen.com/wp-content/uploads/2020/09/KAAT-DAVID-21-2-21.png
END:VEVENT
BEGIN:VEVENT
DTSTART;TZID=Europe/Paris:20210110T110000
DTEND;TZID=Europe/Paris:20210110T110000
DTSTAMP:20260423T211115
CREATED:20200929T134036Z
LAST-MODIFIED:20200929T134536Z
UID:1735-1610276400-1610276400@www.petercaelen.com
SUMMARY:Peter Caelen\, piano
DESCRIPTION:January 10\, 2021 | Piano’s Maene\, Rekem (B) | 11.00 am\n\n\nWorks by Sergei Prokofiev and Franz Liszt\n\nTickets 22\,-/tot 27 jaar 12\,-
URL:https://www.petercaelen.com/event/peter-caelen-piano-2/
CATEGORIES:Alle evenementen,Excellent Concerten,Peter Caelen
ATTACH;FMTTYPE=image/png:https://www.petercaelen.com/wp-content/uploads/2020/09/PETER-CAELEN-10-1-21.png
END:VEVENT
BEGIN:VEVENT
DTSTART;TZID=Europe/Paris:20201115T110000
DTEND;TZID=Europe/Paris:20201115T110000
DTSTAMP:20260423T211115
CREATED:20200929T133826Z
LAST-MODIFIED:20200929T134601Z
UID:1733-1605438000-1605438000@www.petercaelen.com
SUMMARY:Olsi Leka\, cello & Peter Caelen\, piano
DESCRIPTION:November 15\, 2020 | Piano’s Maene\, Rekem (B) | 11.00 am\n\n\nLudwig van Beethoven-Sonatas no. 1 opus 5 no. 1 & no. 5 opus 102 no. 2\, complete variations\n\nTickets 22\,-/tot 27 jaar 12\,-
URL:https://www.petercaelen.com/event/olsi-leka-cello-peter-caelen-piano-5/
CATEGORIES:Alle evenementen,Excellent Concerten,Peter Caelen
ATTACH;FMTTYPE=image/png:https://www.petercaelen.com/wp-content/uploads/2020/09/PETER-OLSI-15-11-20.png
END:VEVENT
BEGIN:VEVENT
DTSTART;TZID=Europe/Paris:20201004T020000
DTEND;TZID=Europe/Paris:20201004T020000
DTSTAMP:20260423T211115
CREATED:20200929T133548Z
LAST-MODIFIED:20200929T134642Z
UID:1724-1601776800-1601776800@www.petercaelen.com
SUMMARY:Matthieu Idmtal\, piano
DESCRIPTION:October 4\, 2020 | Ursulinenconvent\, Eijsden | 2.15 pm & 4.00 pm\n\n\nProgramme I\nEdvard Grieg-Sonata opus 7\nFrédéric Chopin-Mazurka opus 41 no. 1 & Ballade no. 3 opus 47\nAlexander Scriabin-Etudes opus 12 nos. 2\, 5 & 12\n\n\nProgramme II\nFranz Schubert-12 German Dances D. 790\nRobert Schumann-Kreisleriana opus 16\n\n\nTickets 20\,-/tot 27 jaar 10\,- per concert
URL:https://www.petercaelen.com/event/matthieu-idmtal-piano/
LOCATION:Ursulinenconvent\, Breusterstraat 27\, Eijsden\, Limburg\, 6245EH\, Nederland
CATEGORIES:Alle evenementen,Excellent Concerten
ATTACH;FMTTYPE=image/png:https://www.petercaelen.com/wp-content/uploads/2020/09/MATTHIEU-IDMTAL-4-10-20.png
END:VEVENT
BEGIN:VEVENT
DTSTART;TZID=Europe/Paris:20200614T170000
DTEND;TZID=Europe/Paris:20200614T170000
DTSTAMP:20260423T211115
CREATED:20191021T083317Z
LAST-MODIFIED:20191021T084041Z
UID:1719-1592154000-1592154000@www.petercaelen.com
SUMMARY:Olsi Leka & Peter Caelen
DESCRIPTION:Sunday June 14 2020 | Aukloster\, Monschau (D) | 05:00 pm\n\nOlsi Leka\, cello\nPeter Caelen\, piano\n\nWorks by Beethoven\, Schumann & Mendelssohn\nwww.montjoie-musicale.com
URL:https://www.petercaelen.com/event/olsi-leka-peter-caelen-6/
CATEGORIES:Alle evenementen,Peter Caelen
ATTACH;FMTTYPE=image/png:https://www.petercaelen.com/wp-content/uploads/2019/10/Peter-Caelen-Olsi-14-06-20.png
END:VEVENT
BEGIN:VEVENT
DTSTART;TZID=Europe/Paris:20200427T080000
DTEND;TZID=Europe/Paris:20200427T170000
DTSTAMP:20260423T211115
CREATED:20191021T083033Z
LAST-MODIFIED:20191021T083058Z
UID:1711-1587974400-1588006800@www.petercaelen.com
SUMMARY:Lukas Stasevskij & Peter Caelen
DESCRIPTION:Monday April 27 2020 | Sellosali\, Espoo (FI) | t.b.d.\n\nLukas Stasevskij\, cello\nPeter Caelen\, piano\n\nWorks by Beethoven\nwww.juvenalia.fi
URL:https://www.petercaelen.com/event/lukas-stasevskij-peter-caelen-3/
CATEGORIES:Alle evenementen,Peter Caelen
ATTACH;FMTTYPE=image/png:https://www.petercaelen.com/wp-content/uploads/2019/10/LUKAS-en-Peter-C-27-4-20.png
END:VEVENT
END:VCALENDAR